BEGIN:VCALENDAR
VERSION:2.0
PRODID:-//Focal Point Church - ECPv6.15.18//NONSGML v1.0//EN
CALSCALE:GREGORIAN
METHOD:PUBLISH
X-WR-CALNAME:Focal Point Church
X-ORIGINAL-URL:https://www.focalpointchurch.com
X-WR-CALDESC:Events for Focal Point Church
REFRESH-INTERVAL;VALUE=DURATION:PT1H
X-Robots-Tag:noindex
X-PUBLISHED-TTL:PT1H
BEGIN:VTIMEZONE
TZID:America/New_York
BEGIN:DAYLIGHT
TZOFFSETFROM:-0500
TZOFFSETTO:-0400
TZNAME:EDT
DTSTART:20250309T070000
END:DAYLIGHT
BEGIN:STANDARD
TZOFFSETFROM:-0400
TZOFFSETTO:-0500
TZNAME:EST
DTSTART:20251102T060000
END:STANDARD
BEGIN:DAYLIGHT
TZOFFSETFROM:-0500
TZOFFSETTO:-0400
TZNAME:EDT
DTSTART:20260308T070000
END:DAYLIGHT
BEGIN:STANDARD
TZOFFSETFROM:-0400
TZOFFSETTO:-0500
TZNAME:EST
DTSTART:20261101T060000
END:STANDARD
BEGIN:DAYLIGHT
TZOFFSETFROM:-0500
TZOFFSETTO:-0400
TZNAME:EDT
DTSTART:20270314T070000
END:DAYLIGHT
BEGIN:STANDARD
TZOFFSETFROM:-0400
TZOFFSETTO:-0500
TZNAME:EST
DTSTART:20271107T060000
END:STANDARD
END:VTIMEZONE
BEGIN:VEVENT
DTSTART;TZID=America/New_York:20260606T120000
DTEND;TZID=America/New_York:20260606T160000
DTSTAMP:20260423T110334
CREATED:20260323T161706Z
LAST-MODIFIED:20260323T161728Z
UID:10000780-1780747200-1780761600@www.focalpointchurch.com
SUMMARY:YTH Summer Fest '26
DESCRIPTION:Get ready for YTH Summer Fest ’26 on Saturday\, June 6th from 12-4PM at Focal Point Church — the ultimate kickoff to summer! \nWe’ll have a live DJ\, Water Wars\, a foam pit\, a giant Slip N’ Slide\, and plenty of food for an afternoon packed with fun. Bring your friends and come ready to get soaked and celebrate the start of summer together. \nRegister now and don’t miss the biggest YTH event of the summer!
URL:https://www.focalpointchurch.com/event/yth-summer-fest-26/
LOCATION:Focal Point Church\, 12890 S John Young Pkwy\, Orlando\, FL\, 32837\, United States
CATEGORIES:Youth
ATTACH;FMTTYPE=image/jpeg:https://www.focalpointchurch.com/wp-content/uploads/2026/03/medium_image-1773339412168.jpeg
GEO:28.3770755;-81.4267394
X-APPLE-STRUCTURED-LOCATION;VALUE=URI;X-ADDRESS=Focal Point Church 12890 S John Young Pkwy Orlando FL 32837 United States;X-APPLE-RADIUS=500;X-TITLE=12890 S John Young Pkwy:geo:-81.4267394,28.3770755
END:VEVENT
BEGIN:VEVENT
DTSTART;VALUE=DATE:20260621
DTEND;VALUE=DATE:20260628
DTSTAMP:20260423T110334
CREATED:20260311T233824Z
LAST-MODIFIED:20260311T234017Z
UID:10000775-1782000000-1782604799@www.focalpointchurch.com
SUMMARY:Focal Point Youth Summer Camp 2026
DESCRIPTION:This year we are heading to Word of Life Camp in Hudson\, Florida for a week long Summer Camp. In these 7 days\, you will build lasting friendships\, memories\, and a deeper walk with God. Let’s not forget tons of FUN! \nCost Per Student: $600 (Self Funded) or $300 (Fundraising Participant)\nDeposit: $50 to Reserve Spot\nAvailable Spots: 35 \nSpace is limited\, so make sure to register today! Stay tuned for details on fundraisers and meetings for camp. We cannot wait to hang out with YOU this summer. \nSend all questions to our Youth Pastor Tony Velasquez at avelasquez@focalpointchurch.com
URL:https://www.focalpointchurch.com/event/focal-point-youth-summer-camp-2026/
LOCATION:Word of Life Camp\, 13247 Word of Life Dr\, Hudson\, FL\, 34669\, United States
CATEGORIES:Youth
ATTACH;FMTTYPE=image/png:https://www.focalpointchurch.com/wp-content/uploads/2026/03/medium_image-1762981301796.png
END:VEVENT
END:VCALENDAR